Workbook

Sheet Verification
T1: Drawing average for runs
E3: Claims | H3: Estimates | T3: =IF((COUNT(D14:H14))>1,0.6,0) -> 0 | U3: =IF((COUNT(D14:H14))>1,5.4,0) -> 0
D4: Level | H4: SD | I4: %CV | J4: UVL | K4: Status | M4: N | N4: =IF((COUNT(D14:H20))<2,"",AA28) | O4: EP 15-A3 (Ed4) | T4: =IF((COUNT(D14:H14))>1,AVERAGE(D14:H14),N7) | U4: =IF((COUNT(D14:H14))>1,AVERAGE(D14:H14),N7)
D5: σR (%CV) | G5: SR | H5: =IF((COUNT(E9,AA47))=2,ROUND(AA47,E9),"") | I5: =IF((COUNT(H5))=1,ROUND(AD47,E9),"") | J5: =IF((COUNT(E8:E8,E4:E6,AD52))=5,ROUND((E5*AD52),E9),"") | K5: =IF((COUNT(I5:J5))<2,"",IF(I5<E5,"PASS Claim",IF(I5<J5,"PASS UVL","FAIL"))) | M5: nRun | N5: =IF((COUNT(D14:H20))<2,"",AA29) | T5: =IF((COUNT(D15:H15))>1,5.6,0) -> 0 | U5: =IF((COUNT(D15:H15))>1,10.4,0) -> 0
D6: σWL (%CV) | G6: SWL | H6: =IF((COUNT(E9,AA49))=2,ROUND(AA49,E9),"") | I6: =IF((COUNT(H6))=1,ROUND(AD49,E9),"") | J6: =IF((COUNT(E4:E9,I6))=6,ROUND((E6*K38),E9),"") | K6: =IF((COUNT(I6:J6))<2,"",IF(I6<E6,"PASS Claim",IF(I6<J6,"PASS UVL","FAIL"))) | M6: nRep | N6: =IF((COUNT(D14:H20))<2,"",U41) | O6: Verification of Imprecisin | T6: =IF((COUNT(D15:H15))>1,AVERAGE(D15:H15),N7) | U6: =IF((COUNT(D15:H15))>1,AVERAGE(D15:H15),N7)
G7: SB | H7: =IF((COUNT(E9,AA48))=2,ROUND(AA48,E9),"") | I7: =IF((COUNT(H7))=1,ROUND(AD48,E9),"") | M7: Mean | N7: =IF((COUNT(E9,AA30))<2,"",IF(E9>0,ROUND(AA30,E9-1),ROUND(AA30,0))) | T7: =IF((COUNT(D16:H16))>1,10.6,0) -> 0 | U7: =IF((COUNT(D16:H16))>1,15.4,0) -> 0 | X7: List for data entry into E7 and E8
D8: nSam | G8: =IF((COUNT(N4:N5))<2,"",IF(N5<5,"Note! nRun is less than 5; the estimates are not reliable",IF((N4-N5)<18,"Note! N-nRun is less than 18; the estimates are not reliable","The study design is correct; the estimates are reliable"))) | M8: Min | N8: =IF((COUNT(D14:H20))<2,"",MIN(D14:H20)) | T8: =IF((COUNT(D16:H16))>1,AVERAGE(D16:H16),N7) | U8: =IF((COUNT(D16:H16))>1,AVERAGE(D16:H16),N7) | X8: 0 | AG8: DM2
D9: Decimal | M9: Max | N9: =IF((COUNT(D14:H20))<2,"",MAX(D14:H20)) | T9: =IF((COUNT(D17:H17))>1,15.6,0) -> 0 | U9: =IF((COUNT(D17:H17))>1,20.4,0) -> 0 | X9: 1
D10: %CVa | X10: 2
B11: =IF((COUNT(E10,H6:J6))<4,"",(IF(E6>E10,"The manufacturer's claim for within-lab CV is larger than allowable CV!",(IF(I6>J6,(IF(I6<E10,"Lab's estimate for within-lab CV is larger than the cliam, but less than allowable CV","Lab estimate for within-lab CV exceeds both upper verification limit and allowable CV")),""))))) | X11: 3
T12: =IF((COUNT(D17:H17))>1,AVERAGE(D17:H17),N7) | U12: =IF((COUNT(D17:H17))>1,AVERAGE(D17:H17),N7) | X12: 4
D13: Rep 1 | E13: Rep 2 | F13: Rep 3 | G13: Rep 4 | H13: Rep 5 | T13: =IF((COUNT(D18:H18))>1,20.6,0) -> 0 | U13: =IF((COUNT(D18:H18))>1,25.4,0) -> 0 | X13: 5 | AF13: 1 | AG13: 2 | AH13: 3 | AI13: 4 | AJ13: 5
C14: Run 1 | J14: 1 | K14: 2 | L14: 3 | M14: 4 | N14: 5 | T14: =IF((COUNT(D18:H18))>1,AVERAGE(D18:H18),N7) | U14: =IF((COUNT(D18:H18))>1,AVERAGE(D18:H18),N7) | X14: 6 | AE14: 1 | AF14: =IF((COUNT(D14))=1,(D14-$AA$30)^2,"") | AG14: =IF((COUNT(E14))=1,(E14-$AA$30)^2,"") | AH14: =IF((COUNT(F14))=1,(F14-$AA$30)^2,"") | AI14: =IF((COUNT(G14))=1,(G14-$AA$30)^2,"") | AJ14: =IF((COUNT(H14))=1,(H14-$AA$30)^2,"")
C15: Run 2 | J15: 6 | K15: 7 | L15: 8 | M15: 9 | N15: 10 | T15: =IF((COUNT(D19:H19))>1,25.6,0) -> 0 | U15: =IF((COUNT(D19:H19))>1,30.4,0) -> 0 | AE15: 2 | AF15: =IF((COUNT(D15))=1,(D15-$AA$30)^2,"") | AG15: =IF((COUNT(E15))=1,(E15-$AA$30)^2,"") | AH15: =IF((COUNT(F15))=1,(F15-$AA$30)^2,"") | AI15: =IF((COUNT(G15))=1,(G15-$AA$30)^2,"") | AJ15: =IF((COUNT(H15))=1,(H15-$AA$30)^2,"")
C16: Run 3 | J16: 11 | K16: 12 | L16: 13 | M16: 14 | N16: 15 | T16: =IF((COUNT(D19:H19))>1,AVERAGE(D19:H19),N7) | U16: =IF((COUNT(D19:H19))>1,AVERAGE(D19:H19),N7) | AE16: 3 | AF16: =IF((COUNT(D16))=1,(D16-$AA$30)^2,"") | AG16: =IF((COUNT(E16))=1,(E16-$AA$30)^2,"") | AH16: =IF((COUNT(F16))=1,(F16-$AA$30)^2,"") | AI16: =IF((COUNT(G16))=1,(G16-$AA$30)^2,"") | AJ16: =IF((COUNT(H16))=1,(H16-$AA$30)^2,"")
C17: Run 4 | J17: 16 | K17: 17 | L17: 18 | M17: 19 | N17: 20 | T17: =IF((COUNT(D20:H20))>1,30.6,0) -> 0 | U17: =IF((COUNT(D20:H20))>1,35.4,0) -> 0 | AE17: 4 | AF17: =IF((COUNT(D17))=1,(D17-$AA$30)^2,"") | AG17: =IF((COUNT(E17))=1,(E17-$AA$30)^2,"") | AH17: =IF((COUNT(F17))=1,(F17-$AA$30)^2,"") | AI17: =IF((COUNT(G17))=1,(G17-$AA$30)^2,"") | AJ17: =IF((COUNT(H17))=1,(H17-$AA$30)^2,"")
C18: Run 5 | J18: 21 | K18: 22 | L18: 23 | M18: 24 | N18: 25 | T18: =IF((COUNT(D20:H20))>1,AVERAGE(D20:H20),N7) | U18: =IF((COUNT(D20:H20))>1,AVERAGE(D20:H20),N7) | AE18: 5 | AF18: =IF((COUNT(D18))=1,(D18-$AA$30)^2,"") | AG18: =IF((COUNT(E18))=1,(E18-$AA$30)^2,"") | AH18: =IF((COUNT(F18))=1,(F18-$AA$30)^2,"") | AI18: =IF((COUNT(G18))=1,(G18-$AA$30)^2,"") | AJ18: =IF((COUNT(H18))=1,(H18-$AA$30)^2,"")
C19: Run 6 | J19: 26 | K19: 27 | L19: 28 | M19: 29 | N19: 30 | AE19: 6 | AF19: =IF((COUNT(D19))=1,(D19-$AA$30)^2,"") | AG19: =IF((COUNT(E19))=1,(E19-$AA$30)^2,"") | AH19: =IF((COUNT(F19))=1,(F19-$AA$30)^2,"") | AI19: =IF((COUNT(G19))=1,(G19-$AA$30)^2,"") | AJ19: =IF((COUNT(H19))=1,(H19-$AA$30)^2,"")
C20: Run 7 | J20: 31 | K20: 32 | L20: 33 | M20: 34 | N20: 35 | AE20: 7 | AF20: =IF((COUNT(D20))=1,(D20-$AA$30)^2,"") | AG20: =IF((COUNT(E20))=1,(E20-$AA$30)^2,"") | AH20: =IF((COUNT(F20))=1,(F20-$AA$30)^2,"") | AI20: =IF((COUNT(G20))=1,(G20-$AA$30)^2,"") | AJ20: =IF((COUNT(H20))=1,(H20-$AA$30)^2,"")
B22: Hassan Bayat. Sina Medical Lab (Qaem Shahr, Iran). January 2020
D25: =E6/E5 -> #DIV/0! | T25: =IF((COUNT(D14:H20))>1,0,0) -> 0 | U25: =IF((COUNT(D14:H20))>1,N5*5,0) -> 0
D26: 5 | T26: =IF((COUNT(D14:H20))>1,AA30,"") | U26: =IF((COUNT(D14:H20))>1,AA30,"")
C27: ρ | D27: 5
C28: k | D28: =D26*D27 -> 25 | H28: ρ (the claims ratio, σWL / σR | Z28: N | AA28: =COUNT(D14:H20) -> 0
C29: n | D29: =D28/D27 -> 5 | S29: SD | T29: VAR | U29: n | V29: n2 | W29:  | X29: DM2.n | Y29: for k | Z29: k | AA29: =SUM(Y30:Y36) -> 0
C30: N | D30: 1 | S30: =IF((COUNT(D14:H14))<2,"",STDEV(D14:H14)) | T30: =IF((COUNT(S30))=1,S30^2,"") | U30: =IF((COUNT(D14:H14))>0,COUNT(D14:H14),"") | V30: =IF((COUNT(U30))=1,U30^2,"") | W30: =IF((COUNT(D14:H14))>0,AVERAGE(D14:H14),"") | X30: =IF((COUNT(D14:H14))>0,(W30-$AA$30)^2*U30,"") | Y30: =IF((COUNT(D14:H14))>1,1,"") | Z30: Mean | AA30: =AVERAGE(D14:H20) -> #DIV/0!
C31: n0 | D31: 1 | S31: =IF((COUNT(D15:H15))<2,"",STDEV(D15:H15)) | T31: =IF((COUNT(S31))=1,S31^2,"") | U31: =IF((COUNT(D15:H15))>0,COUNT(D15:H15),"") | V31: =IF((COUNT(U31))=1,U31^2,"") | W31: =IF((COUNT(D15:H15))>0,AVERAGE(D15:H15),"") | X31: =IF((COUNT(D15:H15))>0,(W31-$AA$30)^2*U31,"") | Y31: =IF((COUNT(D15:H15))>1,1,"") | Z31: Min | AA31: =MIN(D14:H20) -> 0
C32: Mean | D32: =D25*D31 -> #DIV/0! | S32: =IF((COUNT(D16:H16))<2,"",STDEV(D16:H16)) | T32: =IF((COUNT(S32))=1,S32^2,"") | U32: =IF((COUNT(D16:H16))>0,COUNT(D16:H16),"") | V32: =IF((COUNT(U32))=1,U32^2,"") | W32: =IF((COUNT(D16:H16))>0,AVERAGE(D16:H16),"") | X32: =IF((COUNT(D16:H16))>0,(W32-$AA$30)^2*U32,"") | Y32: =IF((COUNT(D16:H16))>1,1,"") | Z32: Max | AA32: =MAX(D14:H20) -> 0
C33: %CV-R | D33: =(D31*D30/100)^2 -> 0.0001 | S33: =IF((COUNT(D17:H17))<2,"",STDEV(D17:H17)) | T33: =IF((COUNT(S33))=1,S33^2,"") | U33: =IF((COUNT(D17:H17))>0,COUNT(D17:H17),"") | V33: =IF((COUNT(U33))=1,U33^2,"") | W33: =IF((COUNT(D17:H17))>0,AVERAGE(D17:H17),"") | X33: =IF((COUNT(D17:H17))>0,(W33-$AA$30)^2*U33,"") | Y33: =IF((COUNT(D17:H17))>1,1,"") | Z33: SStotal | AA33: =SUM(AF14:AJ20) -> 0
C34: %CV-WL | D34: =(D32*D30/100)^2 -> #DIV/0! | S34: =IF((COUNT(D18:H18))<2,"",STDEV(D18:H18)) | T34: =IF((COUNT(S34))=1,S34^2,"") | U34: =IF((COUNT(D18:H18))>0,COUNT(D18:H18),"") | V34: =IF((COUNT(U34))=1,U34^2,"") | W34: =IF((COUNT(D18:H18))>0,AVERAGE(D18:H18),"") | X34: =IF((COUNT(D18:H18))>0,(W34-$AA$30)^2*U34,"") | Y34: =IF((COUNT(D18:H18))>1,1,"") | Z34: SS1 | AA34: =X37 -> 0
C35: V-W | D35: =D34-D33 -> #DIV/0! | S35: =IF((COUNT(D19:H19))<2,"",STDEV(D19:H19)) | T35: =IF((COUNT(S35))=1,S35^2,"") | U35: =IF((COUNT(D19:H19))>0,COUNT(D19:H19),"") | V35: =IF((COUNT(U35))=1,U35^2,"") | W35: =IF((COUNT(D19:H19))>0,AVERAGE(D19:H19),"") | X35: =IF((COUNT(D19:H19))>0,(W35-$AA$30)^2*U35,"") | Y35: =IF((COUNT(D19:H19))>1,1,"") | Z35: SS2 | AA35: =AA33-AA34 -> 0
C36: V-WL | D36: =D33+D29*D35 -> #DIV/0! | F36: a1 | G36: =1/D29 -> 0.2 | J36: DF-WL | K36: =G38/(G39+G40) -> #DIV/0! | S36: =IF((COUNT(D20:H20))<2,"",STDEV(D20:H20)) | T36: =IF((COUNT(S36))=1,S36^2,"") | U36: =IF((COUNT(D20:H20))>0,COUNT(D20:H20),"") | V36: =IF((COUNT(U36))=1,U36^2,"") | W36: =IF((COUNT(D20:H20))>0,AVERAGE(D20:H20),"") | X36: =IF((COUNT(D20:H20))>0,(W36-$AA$30)^2*U36,"") | Y36: =IF((COUNT(D20:H20))>1,1,"") | Z36: DFtotal | AA36: =AA28-1 -> -1
C37: V-B | D37: =D33 -> 0.0001 | F37: a2 | G37: =(D29-1)/D29 -> 0.8 | J37: C | K37: =_xlfn.CHISQ.INV((1-0.05/E8),K36) -> #DIV/0! | U37: =AVERAGE(U30:U36) -> #DIV/0! | V37: =SUM(V30:V36) -> 0 | X37: =SUM(X30:X36) -> 0 | Y37: =SUM(Y30:Y36) -> 0 | Z37: DF1 | AA37: =AA29-1 -> -1
C38: MS1 | D38: =D26-1 -> 4 | F38: num | G38: =(G36*D36+G37*D37)^2 -> #DIV/0! | J38: F | K38: =(K37/K36)^0.5 -> #DIV/0! | U38: avg.n | V38: SN2 | X38: SS1 | Y38: k | Z38: DF2 | AA38: =AA36-AA37 -> 0
C39: MS2 | D39: =D28-D26 -> 20 | F39: den1 | G39: =(G36*D36)^2/D38 -> #DIV/0! | U39: =VAR(U30:U36) -> #DIV/0! | X39: Between | Z39: MS1 | AA39: =AA34/AA37 -> 0
C40: DF1 | F40: den2 | G40: =(G37*D37)^2/D39 -> 3.2e-10 | U40: var.m | Z40: MS2 | AA40: =AA35/AA38 -> #DIV/0!
C41: DF2 | U41: =MAX(U30:U36) -> 0 | Z41: n0 | AA41: =(AA28-V37/AA28)/(AA29-1) -> #DIV/0!
U42: n | Z42: dfWL | AA42: =AA56 -> #DIV/0!
Z43: CI | AA43: =1-(0.05/E8) -> #DIV/0! | AC43: dfR | AD43: =AA28-AA29 -> 0
Z44: F | AA44: =_xlfn.CHISQ.INV(AA43,AA42) -> #DIV/0! | AC44: %CVB
...

Sheet Outlier
E1: Grubbs test
D3: Rep 1 | E3: Rep 2 | F3: Rep 3 | G3: Rep 4 | H3: Rep 5
C4: Run 1 | D4: =IF((COUNT(Verification!D14))<1,"",(IF(Verification!D14<$R$18,"Outlier",(IF(Verification!D14>$R$19,"Outlier","OK"))))) | E4: =IF((COUNT(Verification!E14))<1,"",(IF(Verification!E14<$R$18,"Outlier",(IF(Verification!E14>$R$19,"Outlier","OK"))))) | F4: =IF((COUNT(Verification!F14))<1,"",(IF(Verification!F14<$R$18,"Outlier",(IF(Verification!F14>$R$19,"Outlier","OK"))))) | G4: =IF((COUNT(Verification!G14))<1,"",(IF(Verification!G14<$R$18,"Outlier",(IF(Verification!G14>$R$19,"Outlier","OK"))))) | H4: =IF((COUNT(Verification!H14))<1,"",(IF(Verification!H14<$R$18,"Outlier",(IF(Verification!H14>$R$19,"Outlier","OK"))))) | J4: Mean | K4: =Verification!N7 | M4: Outlier Limits
C5: Run 2 | D5: =IF((COUNT(Verification!D15))<1,"",(IF(Verification!D15<$R$18,"Outlier",(IF(Verification!D15>$R$19,"Outlier","OK"))))) | E5: =IF((COUNT(Verification!E15))<1,"",(IF(Verification!E15<$R$18,"Outlier",(IF(Verification!E15>$R$19,"Outlier","OK"))))) | F5: =IF((COUNT(Verification!F15))<1,"",(IF(Verification!F15<$R$18,"Outlier",(IF(Verification!F15>$R$19,"Outlier","OK"))))) | G5: =IF((COUNT(Verification!G15))<1,"",(IF(Verification!G15<$R$18,"Outlier",(IF(Verification!G15>$R$19,"Outlier","OK"))))) | H5: =IF((COUNT(Verification!H15))<1,"",(IF(Verification!H15<$R$18,"Outlier",(IF(Verification!H15>$R$19,"Outlier","OK"))))) | J5: Min | K5: =Verification!N8 | M5: Low | N5: =IF(R5>0,ROUND(R18,R5-1),ROUND(R18,0)) -> #DIV/0! | Q5: Digit | R5: =Verification!E9 -> 0
C6: Run 3 | D6: =IF((COUNT(Verification!D16))<1,"",(IF(Verification!D16<$R$18,"Outlier",(IF(Verification!D16>$R$19,"Outlier","OK"))))) | E6: =IF((COUNT(Verification!E16))<1,"",(IF(Verification!E16<$R$18,"Outlier",(IF(Verification!E16>$R$19,"Outlier","OK"))))) | F6: =IF((COUNT(Verification!F16))<1,"",(IF(Verification!F16<$R$18,"Outlier",(IF(Verification!F16>$R$19,"Outlier","OK"))))) | G6: =IF((COUNT(Verification!G16))<1,"",(IF(Verification!G16<$R$18,"Outlier",(IF(Verification!G16>$R$19,"Outlier","OK"))))) | H6: =IF((COUNT(Verification!H16))<1,"",(IF(Verification!H16<$R$18,"Outlier",(IF(Verification!H16>$R$19,"Outlier","OK"))))) | J6: Max | K6: =Verification!N9 | M6: High | N6: =IF(R5>0,ROUND(R19,R5-1),ROUND(R19,0)) -> #DIV/0!
C7: Run 4 | D7: =IF((COUNT(Verification!D17))<1,"",(IF(Verification!D17<$R$18,"Outlier",(IF(Verification!D17>$R$19,"Outlier","OK"))))) | E7: =IF((COUNT(Verification!E17))<1,"",(IF(Verification!E17<$R$18,"Outlier",(IF(Verification!E17>$R$19,"Outlier","OK"))))) | F7: =IF((COUNT(Verification!F17))<1,"",(IF(Verification!F17<$R$18,"Outlier",(IF(Verification!F17>$R$19,"Outlier","OK"))))) | G7: =IF((COUNT(Verification!G17))<1,"",(IF(Verification!G17<$R$18,"Outlier",(IF(Verification!G17>$R$19,"Outlier","OK"))))) | H7: =IF((COUNT(Verification!H17))<1,"",(IF(Verification!H17<$R$18,"Outlier",(IF(Verification!H17>$R$19,"Outlier","OK"))))) | Q7: alpha | R7: 0.01
C8: Run 5 | D8: =IF((COUNT(Verification!D18))<1,"",(IF(Verification!D18<$R$18,"Outlier",(IF(Verification!D18>$R$19,"Outlier","OK"))))) | E8: =IF((COUNT(Verification!E18))<1,"",(IF(Verification!E18<$R$18,"Outlier",(IF(Verification!E18>$R$19,"Outlier","OK"))))) | F8: =IF((COUNT(Verification!F18))<1,"",(IF(Verification!F18<$R$18,"Outlier",(IF(Verification!F18>$R$19,"Outlier","OK"))))) | G8: =IF((COUNT(Verification!G18))<1,"",(IF(Verification!G18<$R$18,"Outlier",(IF(Verification!G18>$R$19,"Outlier","OK"))))) | H8: =IF((COUNT(Verification!H18))<1,"",(IF(Verification!H18<$R$18,"Outlier",(IF(Verification!H18>$R$19,"Outlier","OK"))))) | J8: Note! | Q8: size | R8: =Verification!AA28 -> 0
C9: Run 6 | D9: =IF((COUNT(Verification!D19))<1,"",(IF(Verification!D19<$R$18,"Outlier",(IF(Verification!D19>$R$19,"Outlier","OK"))))) | E9: =IF((COUNT(Verification!E19))<1,"",(IF(Verification!E19<$R$18,"Outlier",(IF(Verification!E19>$R$19,"Outlier","OK"))))) | F9: =IF((COUNT(Verification!F19))<1,"",(IF(Verification!F19<$R$18,"Outlier",(IF(Verification!F19>$R$19,"Outlier","OK"))))) | G9: =IF((COUNT(Verification!G19))<1,"",(IF(Verification!G19<$R$18,"Outlier",(IF(Verification!G19>$R$19,"Outlier","OK"))))) | H9: =IF((COUNT(Verification!H19))<1,"",(IF(Verification!H19<$R$18,"Outlier",(IF(Verification!H19>$R$19,"Outlier","OK"))))) | J9: ● Only one result may be deleted from a sample. | Q9: significance value | R9: =R7/(R8*2) -> #DIV/0!
C10: Run 7 | D10: =IF((COUNT(Verification!D20))<1,"",(IF(Verification!D20<$R$18,"Outlier",(IF(Verification!D20>$R$19,"Outlier","OK"))))) | E10: =IF((COUNT(Verification!E20))<1,"",(IF(Verification!E20<$R$18,"Outlier",(IF(Verification!E20>$R$19,"Outlier","OK"))))) | F10: =IF((COUNT(Verification!F20))<1,"",(IF(Verification!F20<$R$18,"Outlier",(IF(Verification!F20>$R$19,"Outlier","OK"))))) | G10: =IF((COUNT(Verification!G20))<1,"",(IF(Verification!G20<$R$18,"Outlier",(IF(Verification!G20>$R$19,"Outlier","OK"))))) | H10: =IF((COUNT(Verification!H20))<1,"",(IF(Verification!H20<$R$18,"Outlier",(IF(Verification!H20>$R$19,"Outlier","OK"))))) | J10: ● Toatly, two results may be deleted from all samples | Q10: df | R10: =R8-2 -> -2
Q11: t-crit | R11: =_xlfn.T.INV(1-R9,R10) -> #DIV/0!
Q12: G-crit | R12: =(R8-1)*R11/SQRT(R8*(R10+R11^2)) -> #DIV/0!
Q14: Mean | R14: =AVERAGE(Verification!D14:H20) -> #DIV/0!
Q15: SD | R15: =STDEV(Verification!D14:H20) -> #DIV/0!
Q16: %CV | R16: =R15*100/R14 -> #DIV/0!
R17: =R12*R15 -> #DIV/0!
Q18: Low | R18: =R14-R17 -> #DIV/0!
Q19: UP | R19: =R14+R17 -> #DIV/0!
Q20: Min | R20: =Verification!AA31 -> 0
Q21: Max | R21: =Verification!AA32 -> 0

Sheet Abbrevations
A1: ABBREVATIONA
A2: Level: The concentration in the manufacturer's study
A3: σR: Manufacturer's claim for repeatability
A4: σWL: Manufacturer's claim for within lab imprecision
A5: nSam: Number of samples
A6: Decimal: Number of Decimal places for rounding the calculations
A7: %CVa: Allowable CV
A8: sR: Lab estimate for repeatability
A9: sWL: Lab estimate for within lab imprecision
A10: sB: Lab estimate for between run imprecision
A11: UVL: Upper Verification Limit
A12: N: Total number of results
... A17: Max: The largest result

Sheet Example Data
C1: Example Data
C2: Sample 1 | J2: Sample 2 | Q2: Sample 3
C3: Rep 1 | D3: Rep 2 | E3: Rep 3 | F3: Rep 4 | G3: Rep 5 | J3: Rep 1 | K3: Rep 2 | L3: Rep 3 | M3: Rep 4 | N3: Rep 5 | Q3: Rep 1 | R3: Rep 2 | S3: Rep 3 | T3: Rep 4 | U3: Rep 5
B4: Run 1 | C4: 26.6 | D4: 25.2 | E4: 30.2 | F4: 27.6 | G4: 25.6 | I4: Run 1 | J4: 140 | K4: 139 | L4: 138 | M4: 138 | N4: 140 | P4: Run 1 | Q4: 606 | R4: 627 | S4: 621 | T4: 606 | U4: 620
B5: Run 2 | C5: 24.3 | D5: 25.7 | E5: 23.8 | F5: 25.3 | G5: 24.1 | I5: Run 2 | J5: 140 | K5: 143 | L5: 141 | M5: 143 | N5: 137 | P5: Run 2 | Q5: 612 | R5: 610 | S5: 611 | T5: 595 | U5: 630
B6: Run 3 | C6: 26.1 | D6: 24 | E6: 25.4 | F6: 26 | G6: 24.3 | I6: Run 3 | J6: 140 | K6: 138 | L6: 136 | M6: 141 | N6: 136 | P6: Run 3 | Q6: 649 | R6: 626 | S6: 636 | T6: 639 | U6: 648
B7: Run 4 | C7: 26.5 | D7: 27.1 | E7: 25.9 | F7: 25.5 | G7: 25.5 | I7: Run 4 | J7: 141 | K7: 144 | L7: 142 | M7: 143 | N7: 144 | P7: Run 4 | Q7: 615 | R7: 633 | S7: 605 | T7: 616 | U7: 625
B8: Run 5 | C8: 24.5 | D8: 26.4 | E8: 25.8 | F8: 26 | G8: 25.1 | I8: Run 5 | J8: 139 | K8: 140 | L8: 141 | M8: 138 | N8: 141 | P8: Run 5 | Q8: 622 | R8: 632 | S8: 646 | T8: 619 | U8: 623
C10: σR (%CV) | D10: 3.3 | J10: σR (%CV) | K10: 1.7 | Q10: σR (%CV) | R10: 1.7
C11: σWL (%CV) | D11: 5.3 | J11: σWL (%CV) | K11: 2.9 | Q11: σWL (%CV) | R11: 2.75
